BEGIN:VCALENDAR
VERSION:2.0
PRODID:-//Basingstoke Canal Canoe Club - ECPv6.15.20//NONSGML v1.0//EN
CALSCALE:GREGORIAN
METHOD:PUBLISH
X-WR-CALNAME:Basingstoke Canal Canoe Club
X-ORIGINAL-URL:https://b3c.org.uk
X-WR-CALDESC:Events for Basingstoke Canal Canoe Club
REFRESH-INTERVAL;VALUE=DURATION:PT1H
X-Robots-Tag:noindex
X-PUBLISHED-TTL:PT1H
BEGIN:VTIMEZONE
TZID:Europe/London
BEGIN:DAYLIGHT
TZOFFSETFROM:+0000
TZOFFSETTO:+0100
TZNAME:BST
DTSTART:20230326T010000
END:DAYLIGHT
BEGIN:STANDARD
TZOFFSETFROM:+0100
TZOFFSETTO:+0000
TZNAME:GMT
DTSTART:20231029T010000
END:STANDARD
BEGIN:DAYLIGHT
TZOFFSETFROM:+0000
TZOFFSETTO:+0100
TZNAME:BST
DTSTART:20240331T010000
END:DAYLIGHT
BEGIN:STANDARD
TZOFFSETFROM:+0100
TZOFFSETTO:+0000
TZNAME:GMT
DTSTART:20241027T010000
END:STANDARD
BEGIN:DAYLIGHT
TZOFFSETFROM:+0000
TZOFFSETTO:+0100
TZNAME:BST
DTSTART:20250330T010000
END:DAYLIGHT
BEGIN:STANDARD
TZOFFSETFROM:+0100
TZOFFSETTO:+0000
TZNAME:GMT
DTSTART:20251026T010000
END:STANDARD
END:VTIMEZONE
BEGIN:VEVENT
DTSTART;VALUE=DATE:20241103
DTEND;VALUE=DATE:20241104
DTSTAMP:20260419T153453
CREATED:20241018T104909Z
LAST-MODIFIED:20241018T104909Z
UID:10000037-1730592000-1730678399@b3c.org.uk
SUMMARY:A sea experience trip Langstone Harbour
DESCRIPTION:Morning all\, Chris and I are putting a little sea experience together for those that would like somewhere different from the canal. So this would be great for first time sea Kayaking. so we are looking at the 3rd Nov\, Langstone Harbour\, 10:00 launch. not to worry too much about roof racks\, we can divi up between us or at worst I can use the trailer. You should be Spray deck and deep water rescue competent. ( you still have a Wednesday evening or 2 at Woking pool if you’re not) we will be away for most of the day\, back washed up and put away by 17:00ish. If you’d like to join us\, let us know
URL:https://b3c.org.uk/event/a-sea-experience-trip-langstone-harbour/
CATEGORIES:Sea Trip,Touring Trip
ORGANIZER;CN="Rick Covell":MAILTO:Rick.covell@ntlworld.com
END:VEVENT
END:VCALENDAR