BEGIN:VCALENDAR
VERSION:2.0
PRODID:-//Basingstoke Canal Canoe Club - ECPv6.15.20//NONSGML v1.0//EN
CALSCALE:GREGORIAN
METHOD:PUBLISH
X-WR-CALNAME:Basingstoke Canal Canoe Club
X-ORIGINAL-URL:https://b3c.org.uk
X-WR-CALDESC:Events for Basingstoke Canal Canoe Club
REFRESH-INTERVAL;VALUE=DURATION:PT1H
X-Robots-Tag:noindex
X-PUBLISHED-TTL:PT1H
BEGIN:VTIMEZONE
TZID:Europe/London
BEGIN:DAYLIGHT
TZOFFSETFROM:+0000
TZOFFSETTO:+0100
TZNAME:BST
DTSTART:20230326T010000
END:DAYLIGHT
BEGIN:STANDARD
TZOFFSETFROM:+0100
TZOFFSETTO:+0000
TZNAME:GMT
DTSTART:20231029T010000
END:STANDARD
BEGIN:DAYLIGHT
TZOFFSETFROM:+0000
TZOFFSETTO:+0100
TZNAME:BST
DTSTART:20240331T010000
END:DAYLIGHT
BEGIN:STANDARD
TZOFFSETFROM:+0100
TZOFFSETTO:+0000
TZNAME:GMT
DTSTART:20241027T010000
END:STANDARD
BEGIN:DAYLIGHT
TZOFFSETFROM:+0000
TZOFFSETTO:+0100
TZNAME:BST
DTSTART:20250330T010000
END:DAYLIGHT
BEGIN:STANDARD
TZOFFSETFROM:+0100
TZOFFSETTO:+0000
TZNAME:GMT
DTSTART:20251026T010000
END:STANDARD
END:VTIMEZONE
BEGIN:VEVENT
DTSTART;TZID=Europe/London:20240815T080000
DTEND;TZID=Europe/London:20240815T170000
DTSTAMP:20260421T124346
CREATED:20240701T115210Z
LAST-MODIFIED:20240701T202235Z
UID:10000030-1723708800-1723741200@b3c.org.uk
SUMMARY:Kennet and Avon through Reading
DESCRIPTION:Launching at the Wokingham water centre\, paddling up the Thames a short distance and then taking the Kennet and Avon Canal to Fobney lock and return\, this takes through the centre of Reading and the Oracle.
URL:https://b3c.org.uk/event/kennet-and-avon-through-reading/
CATEGORIES:Touring Trip
ORGANIZER;CN="Rick Covell":MAILTO:Rick.covell@ntlworld.com
END:VEVENT
BEGIN:VEVENT
DTSTART;TZID=Europe/London:20240824T080000
DTEND;TZID=Europe/London:20240824T170000
DTSTAMP:20260421T124346
CREATED:20240701T114701Z
LAST-MODIFIED:20240701T202214Z
UID:10000029-1724486400-1724518800@b3c.org.uk
SUMMARY:River Wey trip
DESCRIPTION:Launching from Dapdune wharf paddling up the navigation to Millmead Lock then to St Catherines Lock returning via Riff Raff weir and the River back on to the navigation. Suitable for beginners.
URL:https://b3c.org.uk/event/river-wey-trip/
CATEGORIES:Touring Trip
ORGANIZER;CN="Rick Covell":MAILTO:Rick.covell@ntlworld.com
END:VEVENT
END:VCALENDAR