BEGIN:VCALENDAR
VERSION:2.0
PRODID:-//Basingstoke Canal Canoe Club - ECPv6.15.20//NONSGML v1.0//EN
CALSCALE:GREGORIAN
METHOD:PUBLISH
X-ORIGINAL-URL:https://b3c.org.uk
X-WR-CALDESC:Events for Basingstoke Canal Canoe Club
REFRESH-INTERVAL;VALUE=DURATION:PT1H
X-Robots-Tag:noindex
X-PUBLISHED-TTL:PT1H
BEGIN:VTIMEZONE
TZID:Europe/London
BEGIN:DAYLIGHT
TZOFFSETFROM:+0000
TZOFFSETTO:+0100
TZNAME:BST
DTSTART:20230326T010000
END:DAYLIGHT
BEGIN:STANDARD
TZOFFSETFROM:+0100
TZOFFSETTO:+0000
TZNAME:GMT
DTSTART:20231029T010000
END:STANDARD
BEGIN:DAYLIGHT
TZOFFSETFROM:+0000
TZOFFSETTO:+0100
TZNAME:BST
DTSTART:20240331T010000
END:DAYLIGHT
BEGIN:STANDARD
TZOFFSETFROM:+0100
TZOFFSETTO:+0000
TZNAME:GMT
DTSTART:20241027T010000
END:STANDARD
BEGIN:DAYLIGHT
TZOFFSETFROM:+0000
TZOFFSETTO:+0100
TZNAME:BST
DTSTART:20250330T010000
END:DAYLIGHT
BEGIN:STANDARD
TZOFFSETFROM:+0100
TZOFFSETTO:+0000
TZNAME:GMT
DTSTART:20251026T010000
END:STANDARD
END:VTIMEZONE
BEGIN:VEVENT
DTSTART;TZID=Europe/London:20240525T093000
DTEND;TZID=Europe/London:20240525T153000
DTSTAMP:20260424T141738
CREATED:20240522T121422Z
LAST-MODIFIED:20240529T144203Z
UID:10000003-1716629400-1716651000@b3c.org.uk
SUMMARY:River trip St Patricks Stream
DESCRIPTION:Ideal for your first time away from the canal\, to enjoy the quite surrounds of the river and backwaters off the Thames. Launching from Henley\, to take in the Hennerton Backwater and St Patricks Stream en route. \nMembers to confirm attendance via Spond to ensure participation. \nNew member and not on Spond yet? Please contact the Club Secretary to get access to the club group.
URL:https://b3c.org.uk/event/river-trip-st-patricks-stream/
CATEGORIES:Touring Trip
ORGANIZER;CN="Rick Covell":MAILTO:Rick.covell@ntlworld.com
END:VEVENT
END:VCALENDAR