BEGIN:VCALENDAR
VERSION:2.0
PRODID:-//Basingstoke Canal Canoe Club - ECPv6.15.20//NONSGML v1.0//EN
CALSCALE:GREGORIAN
METHOD:PUBLISH
X-ORIGINAL-URL:https://b3c.org.uk
X-WR-CALDESC:Events for Basingstoke Canal Canoe Club
REFRESH-INTERVAL;VALUE=DURATION:PT1H
X-Robots-Tag:noindex
X-PUBLISHED-TTL:PT1H
BEGIN:VTIMEZONE
TZID:Europe/London
BEGIN:DAYLIGHT
TZOFFSETFROM:+0000
TZOFFSETTO:+0100
TZNAME:BST
DTSTART:20240331T010000
END:DAYLIGHT
BEGIN:STANDARD
TZOFFSETFROM:+0100
TZOFFSETTO:+0000
TZNAME:GMT
DTSTART:20241027T010000
END:STANDARD
BEGIN:DAYLIGHT
TZOFFSETFROM:+0000
TZOFFSETTO:+0100
TZNAME:BST
DTSTART:20250330T010000
END:DAYLIGHT
BEGIN:STANDARD
TZOFFSETFROM:+0100
TZOFFSETTO:+0000
TZNAME:GMT
DTSTART:20251026T010000
END:STANDARD
BEGIN:DAYLIGHT
TZOFFSETFROM:+0000
TZOFFSETTO:+0100
TZNAME:BST
DTSTART:20260329T010000
END:DAYLIGHT
BEGIN:STANDARD
TZOFFSETFROM:+0100
TZOFFSETTO:+0000
TZNAME:GMT
DTSTART:20261025T010000
END:STANDARD
END:VTIMEZONE
BEGIN:VEVENT
DTSTART;TZID=Europe/London:20250614T093000
DTEND;TZID=Europe/London:20250615T160000
DTSTAMP:20260422T143857
CREATED:20250212T172319Z
LAST-MODIFIED:20250306T132300Z
UID:10000057-1749893400-1750003200@b3c.org.uk
SUMMARY:Discover Course Kayak Adults weekend
DESCRIPTION:Discover Course for adults (over 18s) held on Saturday and Sunday at the BCCC in Mytchett. \nBoth days need to be attended 9:30 to 15:30 to qualify. \nPlease contact Steve Atkins to discuss your participation.
URL:https://b3c.org.uk/event/discover-course-kayak-adults-weekend-6/
LOCATION:Basingstoke Canal Canoe Club\, Mytchett Place Road\, Mytchett\, Camberley\, Surrey\, GU16 6DD
CATEGORIES:Adults,Course - Beginners
ORGANIZER;CN="Steve Atkins":MAILTO:B3C.Courses@gmail.com
END:VEVENT
BEGIN:VEVENT
DTSTART;TZID=Europe/London:20250614T093000
DTEND;TZID=Europe/London:20250615T160000
DTSTAMP:20260422T143857
CREATED:20250212T172516Z
LAST-MODIFIED:20250228T144942Z
UID:10000058-1749893400-1750003200@b3c.org.uk
SUMMARY:Discover Course Kayak Juniors weekend
DESCRIPTION:Discover Course for juniors (under 18s) held on Saturday and Sunday at the BCCC in Mytchett. \nBoth days need to be attended 9:30 to 15:30 to qualify. \nPlease contact Steve Atkins to discuss your participation.
URL:https://b3c.org.uk/event/discover-course-kayak-juniors-weekend-3/
LOCATION:Basingstoke Canal Canoe Club\, Mytchett Place Road\, Mytchett\, Camberley\, Surrey\, GU16 6DD
CATEGORIES:Course - Beginners,Juniors
ORGANIZER;CN="Steve Atkins":MAILTO:B3C.Courses@gmail.com
END:VEVENT
END:VCALENDAR